BEGIN:VCALENDAR
VERSION:2.0
PRODID:-//Sabre//Sabre VObject 4.5.8//EN
CALSCALE:GREGORIAN
BEGIN:VEVENT
UID:sabre-vobject-d7c5a686-d736-4f12-a93f-b65c49a2575d
DTSTAMP:20260420T074542Z
SUMMARY:Kinderschlaf – Online Sprechstunde
DESCRIPTION:https://regioningolstadt.com/kinderschlaf-online-sprechstunde_i
 d44723
DTSTART;TZID=Europe/Berlin:20260907T083000
DTEND;TZID=Europe/Berlin:20260907T100000
LOCATION:Online
END:VEVENT
END:VCALENDAR
