BEGIN:VCALENDAR
VERSION:2.0
PRODID:-//Sabre//Sabre VObject 4.5.8//EN
CALSCALE:GREGORIAN
BEGIN:VEVENT
UID:sabre-vobject-a17f469c-8d2f-4865-aa24-e0a5a35164ac
DTSTAMP:20260422T111735Z
SUMMARY:Offener Alleinerziehenden-Treff „Starkes Solo“ (Teilnahme mit K
 ind möglich)
DESCRIPTION:https://regioningolstadt.com/offener-alleinerziehenden-treff-st
 arkes-solo-teilnahme-mit-kind-moeglich_id44722
DTSTART;TZID=Europe/Berlin:20260724T160000
DTEND;TZID=Europe/Berlin:20260724T180000
LOCATION:Bürgerhaus Schwalbanger\, Richard-Wagner-Straße 6\, 86633 Neubur
 g an der Donau
END:VEVENT
END:VCALENDAR
