BEGIN:VCALENDAR
VERSION:2.0
PRODID:-//Sabre//Sabre VObject 4.5.8//EN
CALSCALE:GREGORIAN
BEGIN:VEVENT
UID:sabre-vobject-c63b0567-eadd-48d5-a569-97deab23a0df
DTSTAMP:20260422T093905Z
SUMMARY:Kinderschlaf – Online Sprechstunde
DESCRIPTION:https://regioningolstadt.com/kinderschlaf-online-sprechstunde_i
 d44721
DTSTART;TZID=Europe/Berlin:20260720T083000
DTEND;TZID=Europe/Berlin:20260720T100000
LOCATION:Online
END:VEVENT
END:VCALENDAR
