BEGIN:VCALENDAR
VERSION:2.0
PRODID:-//Sabre//Sabre VObject 4.5.8//EN
CALSCALE:GREGORIAN
BEGIN:VEVENT
UID:sabre-vobject-edb31235-cf10-441b-83b9-abe255679165
DTSTAMP:20260422T064944Z
SUMMARY:Kinderschlaf – Online Sprechstunde
DESCRIPTION:https://regioningolstadt.com/kinderschlaf-online-sprechstunde_i
 d44719
DTSTART;TZID=Europe/Berlin:20260704T090000
DTEND;TZID=Europe/Berlin:20260704T103000
LOCATION:Online
END:VEVENT
END:VCALENDAR
