BEGIN:VCALENDAR
VERSION:2.0
PRODID:-//Sabre//Sabre VObject 4.5.8//EN
CALSCALE:GREGORIAN
BEGIN:VEVENT
UID:sabre-vobject-4204fbc1-6c4a-4116-886f-71ad4230fe28
DTSTAMP:20260420T010126Z
SUMMARY:Gästeführung per Rad (E-Bike) 
DESCRIPTION:https://regioningolstadt.com/gaestefuehrung-per-rad-e-bike_id44
 717
DTSTART;TZID=Europe/Berlin:20260516T120000
DURATION:PT30M
LOCATION:Staustufe Neuburg/Do.\, Bittenbrunn\, Kraftwerkstraße\, Kraftwerk
 straße \, 86 Neuburg an der Donau
END:VEVENT
END:VCALENDAR
