BEGIN:VCALENDAR
VERSION:2.0
PRODID:-//Sabre//Sabre VObject 4.5.8//EN
CALSCALE:GREGORIAN
BEGIN:VEVENT
UID:sabre-vobject-cf8353a2-617e-4106-b700-98463b11cbd5
DTSTAMP:20260420T075718Z
SUMMARY:Kleine Konzerte in der Studienkirche: m&m's
DESCRIPTION:https://regioningolstadt.com/kleine-konzerte-in-der-studienkirc
 he-m-m-s_id44682
DTSTART;TZID=Europe/Berlin:20260913T190000
DTEND;TZID=Europe/Berlin:20260913T194500
LOCATION:Studienkirche St. Ursula\, Wolfgang-Wilhelm-Platz B 90\, 86633 Neu
 burg
END:VEVENT
END:VCALENDAR
