BEGIN:VCALENDAR
VERSION:2.0
PRODID:-//Sabre//Sabre VObject 4.5.8//EN
CALSCALE:GREGORIAN
BEGIN:VEVENT
UID:sabre-vobject-a848199e-c54b-45db-882e-50c4ba635eed
DTSTAMP:20260420T113209Z
SUMMARY:Kleine Konzerte in der Schlosskapelle: Ensemble Grünthal
DESCRIPTION:https://regioningolstadt.com/kleine-konzerte-in-der-schlosskape
 lle-ensemble-gruenthal_id44678
DTSTART;TZID=Europe/Berlin:20260809T190000
DTEND;TZID=Europe/Berlin:20260809T194500
LOCATION:Schlosskapelle\, Residenzstraße 2\, 86633 Neuburg
END:VEVENT
END:VCALENDAR
