BEGIN:VCALENDAR
VERSION:2.0
PRODID:-//Sabre//Sabre VObject 4.5.8//EN
CALSCALE:GREGORIAN
BEGIN:VEVENT
UID:sabre-vobject-76dafa2e-bf13-4790-af2f-8dc7c257c6b5
DTSTAMP:20260422T094503Z
SUMMARY:Kleine Konzerte in der Studienkirche: Marimbarpa
DESCRIPTION:https://regioningolstadt.com/kleine-konzerte-in-der-studienkirc
 he-marimbarpa_id44675
DTSTART;TZID=Europe/Berlin:20260719T190000
DTEND;TZID=Europe/Berlin:20260719T194500
LOCATION:Studienkirche St. Ursula\, Wolfgang-Wilhelm-Platz B 90\, 86633 Neu
 burg
END:VEVENT
END:VCALENDAR
