BEGIN:VCALENDAR
VERSION:2.0
PRODID:-//Sabre//Sabre VObject 4.5.8//EN
CALSCALE:GREGORIAN
BEGIN:VEVENT
UID:sabre-vobject-2b194937-59e1-47ee-baf6-b935f18715ce
DTSTAMP:20260422T083419Z
SUMMARY:Kleine Konzerte in der Studienkirche: Muskateller Saitenmusik
DESCRIPTION:https://regioningolstadt.com/kleine-konzerte-in-der-studienkirc
 he-muskateller-saitenmusik_id44674
DTSTART;TZID=Europe/Berlin:20260712T190000
DTEND;TZID=Europe/Berlin:20260712T194500
LOCATION:Studienkirche St. Ursula\, Wolfgang-Wilhelm-Platz B 90\, 86633 Neu
 burg
END:VEVENT
END:VCALENDAR
