BEGIN:VCALENDAR
VERSION:2.0
PRODID:-//Sabre//Sabre VObject 4.5.8//EN
CALSCALE:GREGORIAN
BEGIN:VEVENT
UID:sabre-vobject-9bc67b45-78ed-47ef-a95e-51fb40f7b727
DTSTAMP:20260421T222800Z
SUMMARY:Kleine Konzerte in der Schlosskapelle: Capella Nova
DESCRIPTION:https://regioningolstadt.com/kleine-konzerte-in-der-schlosskape
 lle-capella-nova_id44672
DTSTART;TZID=Europe/Berlin:20260614T190000
DTEND;TZID=Europe/Berlin:20260614T194500
LOCATION:Schlosskapelle\, Residenzstraße 2\, 86633 Neuburg
END:VEVENT
END:VCALENDAR
