BEGIN:VCALENDAR
VERSION:2.0
PRODID:-//Sabre//Sabre VObject 4.5.8//EN
CALSCALE:GREGORIAN
BEGIN:VEVENT
UID:sabre-vobject-9bb0205c-e810-4519-a487-fc0fc5671dc5
DTSTAMP:20260421T191949Z
SUMMARY:Kleine Konzerte in der Schlosskapelle: Troubadix
DESCRIPTION:https://regioningolstadt.com/kleine-konzerte-in-der-schlosskape
 lle-troubadix_id44671
DTSTART;TZID=Europe/Berlin:20260607T190000
DTEND;TZID=Europe/Berlin:20260607T194500
LOCATION:Schlosskapelle\, Residenzstraße 2\, 86633 Neuburg
END:VEVENT
END:VCALENDAR
