BEGIN:VCALENDAR
VERSION:2.0
PRODID:-//Sabre//Sabre VObject 4.5.8//EN
CALSCALE:GREGORIAN
BEGIN:VEVENT
UID:sabre-vobject-71c78e15-db80-4d24-95c3-dbdd5d1f39f8
DTSTAMP:20260421T145520Z
SUMMARY:Kleine Konzerte in der Schlosskapelle: Mallett Connection
DESCRIPTION:https://regioningolstadt.com/kleine-konzerte-in-der-schlosskape
 lle-mallett-connection_id44670
DTSTART;TZID=Europe/Berlin:20260531T190000
DTEND;TZID=Europe/Berlin:20260531T194500
LOCATION:Schlosskapelle\, Residenzstraße 2\, 86633 Neuburg
END:VEVENT
END:VCALENDAR
