BEGIN:VCALENDAR
VERSION:2.0
PRODID:-//Sabre//Sabre VObject 4.5.8//EN
CALSCALE:GREGORIAN
BEGIN:VEVENT
UID:sabre-vobject-7440d806-9550-4012-bca7-57ed39eeeb5e
DTSTAMP:20260421T145604Z
SUMMARY:Kleine Konzerte in der Studienkirche: Nördlinger Bachtrompetenense
 mble
DESCRIPTION:https://regioningolstadt.com/kleine-konzerte-in-der-studienkirc
 he-noerdlinger-bachtrompetenensemble_id44669
DTSTART;TZID=Europe/Berlin:20260524T190000
DTEND;TZID=Europe/Berlin:20260524T194500
LOCATION:Studienkirche St. Ursula\, Wolfgang-Wilhelm-Platz B 90\, 86633 Neu
 burg
END:VEVENT
END:VCALENDAR
