BEGIN:VCALENDAR
VERSION:2.0
PRODID:-//Sabre//Sabre VObject 4.5.8//EN
CALSCALE:GREGORIAN
BEGIN:VEVENT
UID:sabre-vobject-c13ec19a-ec7a-468a-9356-398cb4ca6f81
DTSTAMP:20260421T120053Z
SUMMARY:Kleine Konzerte in der Schlosskapelle: Julia Israelian & Friends
DESCRIPTION:https://regioningolstadt.com/kleine-konzerte-in-der-schlosskape
 lle-julia-israelian-friends_id44668
DTSTART;TZID=Europe/Berlin:20260517T190000
DTEND;TZID=Europe/Berlin:20260517T194500
LOCATION:Schlosskapelle\, Residenzstraße 2\, 86633 Neuburg
END:VEVENT
END:VCALENDAR
