BEGIN:VCALENDAR
VERSION:2.0
PRODID:-//Sabre//Sabre VObject 4.5.8//EN
CALSCALE:GREGORIAN
BEGIN:VEVENT
UID:sabre-vobject-732d0078-d935-4851-a1ea-d6a9515068e9
DTSTAMP:20260422T083419Z
SUMMARY:Maurice Elie Sarthou - Bilder
DESCRIPTION:https://regioningolstadt.com/maurice-elie-sarthou-bilder_id4464
 7
DTSTART;TZID=Europe/Berlin:20260716T170000
DTEND;TZID=Europe/Berlin:20260716T190000
LOCATION:Städtische Galerie im Rathausfletz\, Karlsplatz A 12\, 86633 Neub
 urg an der Donau
END:VEVENT
END:VCALENDAR
