BEGIN:VCALENDAR
VERSION:2.0
PRODID:-//Sabre//Sabre VObject 4.5.8//EN
CALSCALE:GREGORIAN
BEGIN:VEVENT
UID:sabre-vobject-fdcfef2c-2e8d-4088-952f-09b7a4ec6138
DTSTAMP:20260422T065828Z
SUMMARY:Maurice Elie Sarthou - Bilder
DESCRIPTION:https://regioningolstadt.com/maurice-elie-sarthou-bilder_id4464
 5
DTSTART;TZID=Europe/Berlin:20260702T170000
DTEND;TZID=Europe/Berlin:20260702T190000
LOCATION:Städtische Galerie im Rathausfletz\, Karlsplatz A 12\, 86633 Neub
 urg an der Donau
END:VEVENT
END:VCALENDAR
