BEGIN:VCALENDAR
VERSION:2.0
PRODID:-//Sabre//Sabre VObject 4.5.8//EN
CALSCALE:GREGORIAN
BEGIN:VEVENT
UID:sabre-vobject-e02219d0-6870-489f-8cfb-f84356c54b38
DTSTAMP:20260422T012445Z
SUMMARY:Maurice Elie Sarthou - Bilder
DESCRIPTION:https://regioningolstadt.com/maurice-elie-sarthou-bilder_id4464
 4
DTSTART;TZID=Europe/Berlin:20260625T170000
DTEND;TZID=Europe/Berlin:20260625T190000
LOCATION:Städtische Galerie im Rathausfletz\, Karlsplatz A 12\, 86633 Neub
 urg an der Donau
END:VEVENT
END:VCALENDAR
