BEGIN:VCALENDAR
VERSION:2.0
PRODID:-//Sabre//Sabre VObject 4.5.8//EN
CALSCALE:GREGORIAN
BEGIN:VEVENT
UID:sabre-vobject-19807e4b-b5e1-4ac7-8420-871d083e8ba2
DTSTAMP:20260422T094503Z
SUMMARY:Maurice Elie Sarthou - Bilder
DESCRIPTION:https://regioningolstadt.com/maurice-elie-sarthou-bilder_id4464
 3
DTSTART;TZID=Europe/Berlin:20260719T110000
DTEND;TZID=Europe/Berlin:20260719T190000
LOCATION:Städtische Galerie im Rathausfletz\, Karlsplatz A 12\, 86633 Neub
 urg an der Donau
END:VEVENT
END:VCALENDAR
