BEGIN:VCALENDAR
VERSION:2.0
PRODID:-//Sabre//Sabre VObject 4.5.8//EN
CALSCALE:GREGORIAN
BEGIN:VEVENT
UID:sabre-vobject-083e5779-8898-4e71-9f60-f3228c428fc0
DTSTAMP:20260422T065829Z
SUMMARY:Maurice Elie Sarthou - Bilder
DESCRIPTION:https://regioningolstadt.com/maurice-elie-sarthou-bilder_id4464
 1
DTSTART;TZID=Europe/Berlin:20260705T110000
DTEND;TZID=Europe/Berlin:20260705T190000
LOCATION:Städtische Galerie im Rathausfletz\, Karlsplatz A 12\, 86633 Neub
 urg an der Donau
END:VEVENT
END:VCALENDAR
