BEGIN:VCALENDAR
VERSION:2.0
PRODID:-//Sabre//Sabre VObject 4.5.8//EN
CALSCALE:GREGORIAN
BEGIN:VEVENT
UID:sabre-vobject-693f7187-7a40-4ee9-8f5e-0c1e944f3108
DTSTAMP:20260419T202724Z
SUMMARY:Weinverkostung mit Weinbergführung
DESCRIPTION:https://regioningolstadt.com/weinverkostung-mit-weinbergfuehrun
 g_id44624
DTSTART;TZID=Europe/Berlin:20260501T000000
DTEND;TZID=Europe/Berlin:20260930T000000
LOCATION:Weinberg & Weinhaus Tremml\, \, 86633 Neuburg an der Donau
END:VEVENT
END:VCALENDAR
