BEGIN:VCALENDAR
VERSION:2.0
PRODID:-//Sabre//Sabre VObject 4.5.8//EN
CALSCALE:GREGORIAN
BEGIN:VEVENT
UID:sabre-vobject-bb84f182-d74f-46fe-888f-4ec8106b1948
DTSTAMP:20260421T211407Z
SUMMARY:Weinseminar
DESCRIPTION:https://regioningolstadt.com/weinseminar_id44622
DTSTART;TZID=Europe/Berlin:20260613T160000
DTEND;TZID=Europe/Berlin:20260613T190000
LOCATION:Weinberg & Weinhaus Tremml\, \, 86633 Neuburg an der Donau
END:VEVENT
END:VCALENDAR
