BEGIN:VCALENDAR
VERSION:2.0
PRODID:-//Sabre//Sabre VObject 4.5.8//EN
CALSCALE:GREGORIAN
BEGIN:VEVENT
UID:sabre-vobject-0ae60125-608f-4930-ab43-bef07a622db5
DTSTAMP:20260419T154317Z
SUMMARY:Eröffnung Weihnachtsausstellung im Stadtmuseum
DESCRIPTION:https://regioningolstadt.com/eroeffnung-weihnachtsausstellung-i
 m-stadtmuseum_id44618
DTSTART;TZID=Europe/Berlin:20261129T140000
DURATION:PT30M
LOCATION:Stadtmuseum Neuburg an der Donau\, Amalienstraße  19\, 86633 Neub
 urg an der Donau
END:VEVENT
END:VCALENDAR
