BEGIN:VCALENDAR
VERSION:2.0
PRODID:-//Sabre//Sabre VObject 4.5.8//EN
CALSCALE:GREGORIAN
BEGIN:VEVENT
UID:sabre-vobject-239eb009-a06a-4f1b-a87c-0be04f6576dc
DTSTAMP:20260421T222755Z
SUMMARY:Eröffnung "Wander"-Ausstellung im Stadtmuseum
DESCRIPTION:https://regioningolstadt.com/eroeffnung-wander-ausstellung-im-s
 tadtmuseum_id44616
DTSTART;TZID=Europe/Berlin:20260620T150000
DURATION:PT30M
LOCATION:Stadtmuseum Neuburg an der Donau\, Amalienstraße  19\, 86633 Neub
 urg an der Donau
END:VEVENT
END:VCALENDAR
