BEGIN:VCALENDAR
VERSION:2.0
PRODID:-//Sabre//Sabre VObject 4.5.8//EN
CALSCALE:GREGORIAN
BEGIN:VEVENT
UID:sabre-vobject-9b9093f8-d9ee-4a54-a259-c9d0d154bf52
DTSTAMP:20260421T115942Z
SUMMARY:Kunstpfad auf der Schanz
DESCRIPTION:https://regioningolstadt.com/kunstpfad-auf-der-schanz_id44606
DTSTART;TZID=Europe/Berlin:20260517T100000
DTEND;TZID=Europe/Berlin:20260517T170000
END:VEVENT
END:VCALENDAR
