BEGIN:VCALENDAR
VERSION:2.0
PRODID:-//Sabre//Sabre VObject 4.5.8//EN
CALSCALE:GREGORIAN
BEGIN:VEVENT
UID:sabre-vobject-9a9f8b0b-e053-4cfc-b3e4-d0a117a0b1ef
DTSTAMP:20260419T202709Z
SUMMARY:Frühlingsmarkt Schloss Sandizell
DESCRIPTION:https://regioningolstadt.com/fruehlingsmarkt-schloss-sandizell_
 id44599
DTSTART;TZID=Europe/Berlin:20260501T100000
DTEND;TZID=Europe/Berlin:20260503T180000
LOCATION:Schloss Sandizell
END:VEVENT
END:VCALENDAR
