BEGIN:VCALENDAR
VERSION:2.0
PRODID:-//Sabre//Sabre VObject 4.5.8//EN
CALSCALE:GREGORIAN
BEGIN:VEVENT
UID:sabre-vobject-72fbc44b-6523-45df-bba3-3efa9c8b8ab8
DTSTAMP:20260422T012449Z
SUMMARY:Führung im Kräutergarten
DESCRIPTION:https://regioningolstadt.com/fuehrung-im-kraeutergarten_id44594
DTSTART;TZID=Europe/Berlin:20260621T140000
DURATION:PT30M
LOCATION:Neuburger Kräutergarten
END:VEVENT
END:VCALENDAR
