BEGIN:VCALENDAR
VERSION:2.0
PRODID:-//Sabre//Sabre VObject 4.5.8//EN
CALSCALE:GREGORIAN
BEGIN:VEVENT
UID:sabre-vobject-c3e98a44-0699-4198-9bc2-0ab15e3f040f
DTSTAMP:20260419T203910Z
SUMMARY:JHV des Verschönerungsvereins
DESCRIPTION:https://regioningolstadt.com/jhv-des-verschoenerungsvereins_id4
 4581
DTSTART;TZID=Europe/Berlin:20260508T190000
DURATION:PT30M
LOCATION:Restaurant Central\, Adlerstraße C 200\, 86633 Neuburg an der Don
 au
END:VEVENT
END:VCALENDAR
