BEGIN:VCALENDAR
VERSION:2.0
PRODID:-//Sabre//Sabre VObject 4.5.8//EN
CALSCALE:GREGORIAN
BEGIN:VEVENT
UID:sabre-vobject-c728c02d-8554-4fe5-b652-d05ffa263d47
DTSTAMP:20260422T012448Z
SUMMARY:Geschwisterrivalität
DESCRIPTION:https://regioningolstadt.com/geschwisterrivalitaet_id44306
DTSTART;TZID=Europe/Berlin:20260623T100000
DTEND;TZID=Europe/Berlin:20260623T120000
END:VEVENT
END:VCALENDAR
