BEGIN:VCALENDAR
VERSION:2.0
PRODID:-//Sabre//Sabre VObject 4.5.8//EN
CALSCALE:GREGORIAN
BEGIN:VEVENT
UID:sabre-vobject-558e65f0-5df8-4e3d-89ee-aade02281664
DTSTAMP:20260422T000253Z
SUMMARY:In Verbindung mit deinem Baby – Zeit für dich und deine Schwange
 rschaft
DESCRIPTION:https://regioningolstadt.com/in-verbindung-mit-deinem-baby-zeit
 -fuer-dich-und-deine-schwangerschaft_id44303
DTSTART;TZID=Europe/Berlin:20260619T160000
DTEND;TZID=Europe/Berlin:20260619T180000
LOCATION:Bürgerhaus Schwalbanger\, Richard-Wagner-Straße 6\, 86633 Neubur
 g an der Donau
END:VEVENT
END:VCALENDAR
