BEGIN:VCALENDAR
VERSION:2.0
PRODID:-//Sabre//Sabre VObject 4.5.8//EN
CALSCALE:GREGORIAN
BEGIN:VEVENT
UID:sabre-vobject-11ee9caf-1a04-437b-bc28-8912df3bd2fe
DTSTAMP:20260419T215302Z
SUMMARY:Acker Alm Dinner Event - Alm Silent Dinner
DESCRIPTION:https://regioningolstadt.com/acker-alm-dinner-event-alm-silent-
 dinner_id44300
DTSTART;TZID=Europe/Berlin:20261106T173000
DURATION:PT30M
LOCATION:Die Acker Alm\, Am Maschinenring 2\, 86633 Neuburg an der Donau
END:VEVENT
END:VCALENDAR
