BEGIN:VCALENDAR
VERSION:2.0
PRODID:-//Sabre//Sabre VObject 4.5.8//EN
CALSCALE:GREGORIAN
BEGIN:VEVENT
UID:sabre-vobject-b16a1496-252c-4b58-a33a-69c1a12a25e8
DTSTAMP:20260420T054924Z
SUMMARY:Acker Alm Dinner Event - Wald & Wurzel
DESCRIPTION:https://regioningolstadt.com/acker-alm-dinner-event-wald-wurzel
 _id44298
DTSTART;TZID=Europe/Berlin:20261002T173000
DURATION:PT30M
LOCATION:Die Acker Alm\, Am Maschinenring 2\, 86633 Neuburg an der Donau
END:VEVENT
END:VCALENDAR
