BEGIN:VCALENDAR
VERSION:2.0
PRODID:-//Sabre//Sabre VObject 4.5.8//EN
CALSCALE:GREGORIAN
BEGIN:VEVENT
UID:sabre-vobject-bacfbe07-59e3-40f9-bb97-19213afb6bdc
DTSTAMP:20260423T173536Z
SUMMARY:Acker Alm Dinner Event - Hopfen Heimat Sau
DESCRIPTION:https://regioningolstadt.com/acker-alm-dinner-event-hopfen-heim
 at-sau_id44295
DTSTART;TZID=Europe/Berlin:20260424T173000
DURATION:PT30M
LOCATION:Die Acker Alm\, Am Maschinenring 2\, 86633 Neuburg an der Donau
END:VEVENT
END:VCALENDAR
