BEGIN:VCALENDAR
VERSION:2.0
PRODID:-//Sabre//Sabre VObject 4.5.8//EN
CALSCALE:GREGORIAN
BEGIN:VEVENT
UID:sabre-vobject-f4da95d2-6470-483c-af3a-fa545f1f2449
DTSTAMP:20260421T222815Z
SUMMARY:Family Talk bei Brötchen und Kaffee - Wo Frühstück auf Familienw
 issen trifft
DESCRIPTION:https://regioningolstadt.com/family-talk-bei-broetchen-und-kaff
 ee-wo-fruehstueck-auf-familienwissen-trifft_id44293
DTSTART;TZID=Europe/Berlin:20260618T093000
DTEND;TZID=Europe/Berlin:20260618T110000
LOCATION:Volkshochschule Neuburg e.V. (VHS)\, Franziskanerstraße B 200\, 8
 6633 Neuburg an der Donau
END:VEVENT
END:VCALENDAR
