BEGIN:VCALENDAR
VERSION:2.0
PRODID:-//Sabre//Sabre VObject 4.5.8//EN
CALSCALE:GREGORIAN
BEGIN:VEVENT
UID:sabre-vobject-fe55ee98-fec7-4102-a537-da0cd06ee4e7
DTSTAMP:20260420T000235Z
SUMMARY:Kinderschlaf – Online Sprechstunde
DESCRIPTION:https://regioningolstadt.com/kinderschlaf-online-sprechstunde_i
 d44288
DTSTART;TZID=Europe/Berlin:20260509T090000
DTEND;TZID=Europe/Berlin:20260509T103000
END:VEVENT
END:VCALENDAR
