BEGIN:VCALENDAR
VERSION:2.0
PRODID:-//Sabre//Sabre VObject 4.5.8//EN
CALSCALE:GREGORIAN
BEGIN:VEVENT
UID:sabre-vobject-95c4299e-5015-43ce-81a3-e72ff4f21651
DTSTAMP:20260420T010825Z
SUMMARY:Mein beruflicher Wiedereinstieg in/nach der Elternzeit
DESCRIPTION:https://regioningolstadt.com/mein-beruflicher-wiedereinstieg-in
 -nach-der-elternzeit_id44287
DTSTART;TZID=Europe/Berlin:20260506T090000
DTEND;TZID=Europe/Berlin:20260506T103000
LOCATION:Bürgerhaus Schwalbanger\, Richard-Wagner-Straße 6\, 86633 Neubur
 g an der Donau
END:VEVENT
END:VCALENDAR
