BEGIN:VCALENDAR
VERSION:2.0
PRODID:-//Sabre//Sabre VObject 4.5.8//EN
CALSCALE:GREGORIAN
BEGIN:VEVENT
UID:sabre-vobject-a3cc022b-f78e-495f-9a8a-107b0bc7eedc
DTSTAMP:20260419T214824Z
SUMMARY:Eltern-Kind Frühlingsbasteln
DESCRIPTION:https://regioningolstadt.com/eltern-kind-fruehlingsbasteln_id44
 286
DTSTART;TZID=Europe/Berlin:20260425T090000
DTEND;TZID=Europe/Berlin:20260425T113000
LOCATION:Bürgerhaus Schwalbanger\, Richard-Wagner-Straße 6\, 86633 Neubur
 g an der Donau
END:VEVENT
END:VCALENDAR
