BEGIN:VCALENDAR
VERSION:2.0
PRODID:-//Sabre//Sabre VObject 4.5.8//EN
CALSCALE:GREGORIAN
BEGIN:VEVENT
UID:sabre-vobject-a47f358e-4f22-47f6-bbf5-1869aa56a4fb
DTSTAMP:20260421T132806Z
SUMMARY:Info-Besuch beim Bestatter Faller
DESCRIPTION:https://regioningolstadt.com/info-besuch-beim-bestatter-faller_
 id44261
DTSTART;TZID=Europe/Berlin:20260519T140000
DURATION:PT30M
LOCATION:Bestattungen Faller
END:VEVENT
END:VCALENDAR
