BEGIN:VCALENDAR
VERSION:2.0
PRODID:-//Sabre//Sabre VObject 4.5.8//EN
CALSCALE:GREGORIAN
BEGIN:VEVENT
UID:sabre-vobject-45b177da-db77-4238-9bd0-81e04f18a773
DTSTAMP:20260420T010820Z
SUMMARY:Boule-Spiel auf dem Volksfestplatz
DESCRIPTION:https://regioningolstadt.com/boule-spiel-auf-dem-volksfestplatz
 _id44257
DTSTART;TZID=Europe/Berlin:20260508T140000
DURATION:PT30M
LOCATION:Volksfestplatz\, Volksfestplatz\, 86633 Neuburg an der Donau
END:VEVENT
END:VCALENDAR
