BEGIN:VCALENDAR
VERSION:2.0
PRODID:-//Sabre//Sabre VObject 4.5.8//EN
CALSCALE:GREGORIAN
BEGIN:VEVENT
UID:sabre-vobject-550be3b9-a380-48b0-85f7-a11ce2823acb
DTSTAMP:20260419T202719Z
SUMMARY:Boule-Spiel auf dem Volksfestplatz
DESCRIPTION:https://regioningolstadt.com/boule-spiel-auf-dem-volksfestplatz
 _id44256
DTSTART;TZID=Europe/Berlin:20260501T140000
DURATION:PT30M
LOCATION:Volksfestplatz\, Volksfestplatz\, 86633 Neuburg an der Donau
END:VEVENT
END:VCALENDAR
