BEGIN:VCALENDAR
VERSION:2.0
PRODID:-//Sabre//Sabre VObject 4.5.8//EN
CALSCALE:GREGORIAN
BEGIN:VEVENT
UID:sabre-vobject-92bd1cef-690d-4556-9940-086c8d04c840
DTSTAMP:20260422T000252Z
SUMMARY:»The Circle« – Bjarke Falgren & Sönke Meinen
DESCRIPTION:https://regioningolstadt.com/the-circle-bjarke-falgren-soenke-m
 einen_id44250
DTSTART;TZID=Europe/Berlin:20260627T200000
DTEND;TZID=Europe/Berlin:20260627T230000
LOCATION:Bischof-Simpert-Platz\, \, 86633 Neuburg an der Donau
END:VEVENT
END:VCALENDAR
