BEGIN:VCALENDAR
VERSION:2.0
PRODID:-//Sabre//Sabre VObject 4.5.8//EN
CALSCALE:GREGORIAN
BEGIN:VEVENT
UID:sabre-vobject-4e7c8457-66b9-4317-80a8-b75953abeed2
DTSTAMP:20260419T152610Z
SUMMARY:Offener Alleinerziehenden-Treff „Starkes Solo“
DESCRIPTION:https://regioningolstadt.com/offener-alleinerziehenden-treff-st
 arkes-solo_id44235
DTSTART;TZID=Europe/Berlin:20261127T160000
DTEND;TZID=Europe/Berlin:20261127T180000
LOCATION:Bürgerhaus Schwalbanger\, Richard-Wagner-Straße 6\, 86633 Neubur
 g an der Donau
END:VEVENT
END:VCALENDAR
