BEGIN:VCALENDAR
VERSION:2.0
PRODID:-//Sabre//Sabre VObject 4.5.8//EN
CALSCALE:GREGORIAN
BEGIN:VEVENT
UID:sabre-vobject-a9d61a29-6cdd-4894-ab81-5697a2554317
DTSTAMP:20260419T201144Z
SUMMARY:Offener Alleinerziehenden-Treff „Starkes Solo“
DESCRIPTION:https://regioningolstadt.com/offener-alleinerziehenden-treff-st
 arkes-solo_id44234
DTSTART;TZID=Europe/Berlin:20261030T160000
DTEND;TZID=Europe/Berlin:20261030T180000
LOCATION:Bürgerhaus Schwalbanger\, Richard-Wagner-Straße 6\, 86633 Neubur
 g an der Donau
END:VEVENT
END:VCALENDAR
