BEGIN:VCALENDAR
VERSION:2.0
PRODID:-//Sabre//Sabre VObject 4.5.8//EN
CALSCALE:GREGORIAN
BEGIN:VEVENT
UID:sabre-vobject-5fa81f48-5f14-4842-8931-b20013e2ab04
DTSTAMP:20260422T000131Z
SUMMARY:Offener Alleinerziehenden-Treff „Starkes Solo“
DESCRIPTION:https://regioningolstadt.com/offener-alleinerziehenden-treff-st
 arkes-solo_id44231
DTSTART;TZID=Europe/Berlin:20260626T160000
DTEND;TZID=Europe/Berlin:20260626T180000
LOCATION:Bürgerhaus Schwalbanger\, Richard-Wagner-Straße 6\, 86633 Neubur
 g an der Donau
END:VEVENT
END:VCALENDAR
