BEGIN:VCALENDAR
VERSION:2.0
PRODID:-//Sabre//Sabre VObject 4.5.8//EN
CALSCALE:GREGORIAN
BEGIN:VEVENT
UID:sabre-vobject-1c3ae631-9420-418e-87cc-b1c2569190aa
DTSTAMP:20260419T135810Z
SUMMARY:NEU! Friedhofsgeschichten
DESCRIPTION:https://regioningolstadt.com/neu-friedhofsgeschichten_id44201
DTSTART;TZID=Europe/Berlin:20261122T133000
DTEND;TZID=Europe/Berlin:20261122T150000
LOCATION:Städtischer Friedhof "Alter Friedhof"\, Franziskanerstraße 219\,
  86633 Neuburg an der Donau
END:VEVENT
END:VCALENDAR
