BEGIN:VCALENDAR
VERSION:2.0
PRODID:-//Sabre//Sabre VObject 4.5.8//EN
CALSCALE:GREGORIAN
BEGIN:VEVENT
UID:sabre-vobject-7f326e2e-4a34-47d7-af8e-7aa77b74a9df
DTSTAMP:20260420T075615Z
SUMMARY:NEU! Friedhofsgeschichten
DESCRIPTION:https://regioningolstadt.com/neu-friedhofsgeschichten_id44200
DTSTART;TZID=Europe/Berlin:20260927T180000
DTEND;TZID=Europe/Berlin:20260927T193000
LOCATION:Städtischer Friedhof "Alter Friedhof"\, Franziskanerstraße 219\,
  86633 Neuburg an der Donau
END:VEVENT
END:VCALENDAR
