BEGIN:VCALENDAR
VERSION:2.0
PRODID:-//Sabre//Sabre VObject 4.5.8//EN
CALSCALE:GREGORIAN
BEGIN:VEVENT
UID:sabre-vobject-04d3b8c7-cc34-4678-bbce-503e75a550fb
DTSTAMP:20260422T000141Z
SUMMARY:NEU! Friedhofsgeschichten
DESCRIPTION:https://regioningolstadt.com/neu-friedhofsgeschichten_id44198
DTSTART;TZID=Europe/Berlin:20260621T180000
DTEND;TZID=Europe/Berlin:20260621T193000
LOCATION:Städtischer Friedhof "Alter Friedhof"\, Franziskanerstraße 219\,
  86633 Neuburg an der Donau
END:VEVENT
END:VCALENDAR
