BEGIN:VCALENDAR
VERSION:2.0
PRODID:-//Sabre//Sabre VObject 4.5.8//EN
CALSCALE:GREGORIAN
BEGIN:VEVENT
UID:sabre-vobject-104d8805-0ebc-4886-9aec-6f892e40b7c3
DTSTAMP:20260421T095134Z
SUMMARY:Radierausstellung
DESCRIPTION:https://regioningolstadt.com/radierausstellung_id44189
DTSTART;TZID=Europe/Berlin:20260419T113000
DTEND;TZID=Europe/Berlin:20260419T190000
LOCATION:Marstallfoyer\, Ottheinrichplatz A 117\, 86633 Neuburg an der Dona
 u
END:VEVENT
END:VCALENDAR
