BEGIN:VCALENDAR
VERSION:2.0
PRODID:-//Sabre//Sabre VObject 4.5.8//EN
CALSCALE:GREGORIAN
BEGIN:VEVENT
UID:sabre-vobject-2633f1b6-3930-468e-9c20-74cd1e1f5b1f
DTSTAMP:20260421T161450Z
SUMMARY:LinkedIn für Gründer: Sichtbar. Strategisch. Vernetzt. – So nut
 zen Sie LinkedIn erfolgreich
DESCRIPTION:https://regioningolstadt.com/linkedin-fuer-gruender-sichtbar-st
 rategisch-vernetzt-so-nutzen-sie-linkedin-erfolgreich_id44175
DTSTART;TZID=Europe/Berlin:20260519T190000
DTEND;TZID=Europe/Berlin:20260519T203000
LOCATION:online
END:VEVENT
END:VCALENDAR
