BEGIN:VCALENDAR
VERSION:2.0
PRODID:-//Sabre//Sabre VObject 4.5.8//EN
CALSCALE:GREGORIAN
BEGIN:VEVENT
UID:sabre-vobject-924353e1-6e75-451c-b6ad-b327df6d2eb0
DTSTAMP:20260423T094554Z
SUMMARY:Kräuterwanderung "Sommernachtskräuter"
DESCRIPTION:https://regioningolstadt.com/kraeuterwanderung-sommernachtskrae
 uter_id44089
DTSTART;TZID=Europe/Berlin:20260620T140000
DTEND;TZID=Europe/Berlin:20260620T180000
LOCATION:Wildpflanzenzauber\, Eulatalstr. 13\, 86633 Neuburg-Bittenbrunn
END:VEVENT
END:VCALENDAR
