BEGIN:VCALENDAR
VERSION:2.0
PRODID:-//Sabre//Sabre VObject 4.5.8//EN
CALSCALE:GREGORIAN
BEGIN:VEVENT
UID:sabre-vobject-e762401b-4623-48cb-b571-d886de1f0f1e
DTSTAMP:20260421T132801Z
SUMMARY:Kräuterwanderung "WUNDER-voller Mai"
DESCRIPTION:https://regioningolstadt.com/kraeuterwanderung-wunder-voller-ma
 i_id44088
DTSTART;TZID=Europe/Berlin:20260523T140000
DTEND;TZID=Europe/Berlin:20260523T180000
LOCATION:Wildpflanzenzauber\, Eulatalstr. 13\, 86633 Neuburg-Bittenbrunn
END:VEVENT
END:VCALENDAR
